BEGIN:VCALENDAR
VERSION:2.0
PRODID:-//wp-events-plugin.com//7.2.3.1//EN
BEGIN:VEVENT
UID:2@elyakada.com
DTSTART:20221130T131500Z
DTEND:20221130T191500Z
DTSTAMP:20221129T124712Z
URL:https://elyakada.com/events/sport/
SUMMARY:sport
DESCRIPTION:test
END:VEVENT
BEGIN:VEVENT
UID:3@elyakada.com
DTSTART:20221201T090000Z
DTEND:20221203T141500Z
DTSTAMP:20221129T125258Z
URL:https://elyakada.com/events/sortie-2/
SUMMARY:Sortie
DESCRIPTION:
END:VEVENT
END:VCALENDAR